BEGIN:VCALENDAR
VERSION:2.0
PRODID:-//Spanish TO - ECPv6.15.20//NONSGML v1.0//EN
CALSCALE:GREGORIAN
METHOD:PUBLISH
X-WR-CALNAME:Spanish TO
X-ORIGINAL-URL:https://spanishto.com
X-WR-CALDESC:Events for Spanish TO
REFRESH-INTERVAL;VALUE=DURATION:PT1H
X-Robots-Tag:noindex
X-PUBLISHED-TTL:PT1H
BEGIN:VTIMEZONE
TZID:UTC
BEGIN:STANDARD
TZOFFSETFROM:+0000
TZOFFSETTO:+0000
TZNAME:UTC
DTSTART:20240101T000000
END:STANDARD
END:VTIMEZONE
BEGIN:VEVENT
DTSTART;TZID=UTC:20260303T190000
DTEND;TZID=UTC:20260303T200000
DTSTAMP:20260419T162440
CREATED:20260105T015210Z
LAST-MODIFIED:20260213T180934Z
UID:10000330-1772564400-1772568000@spanishto.com
SUMMARY:Spanish Beginners 1 Online Toronto Course Starts Tues. Mar. 3rd @ 7:00PM $150+HST 5 Lessons
DESCRIPTION:  								\n				\n					\n		\n					\n		\n				\n						\n					\n			\n						\n				\n									\n					\n						\n									BUY NOW 5 IN PERSON BEG 1 SPANISH CLASSES @ Bay & King Starts Mon. Mar. 2nd @ 7:00PM | $205.00 + HST\n					\n					\n				\n								\n				\n					\n		\n					\n		\n				\n						\n					\n			\n						\n				\n									Looking to learn Spanish for travel\, love and family\, or work? Join our In Person Beginners 1 Spanish Group Class at our Toronto Financial District location 100 King St. West with Prof. InesThis course runs Mon. Mar. 2nd to Mar. 30th from 7:00 PM to 8:00 PM      5 one-hour lessons with interactive practice and digital materials and Spanish for Beginners A1 Book (used in Beginners 1\, 2\, & 3 courses)You’ll learn how to introduce yourself\, ask questions\, order in a restaurant\, beginning grammar and vocabulary and lots of interactive speaking practice.The cost is $205.00 + HSTYou have the option to attend in-person\, or live online via Zoom if you can’t make it in-personFor more info contact usDon’t miss this opportunity to begin speaking Spanish! Secure your spot! Pay & join the course! Click on our secure Shopify BUY link above.  
URL:https://spanishto.com/course/spanish-beginners-1-online-toronto-course-starts-tues-mar-3rd-700pm-150hst-5-lessons/
LOCATION:Online
CATEGORIES:Adult- Beginners Online
ATTACH;FMTTYPE=image/heic:https://spanishto.com/wp-content/uploads/2025/11/IMG_6345-scaled.jpg
END:VEVENT
BEGIN:VEVENT
DTSTART;TZID=UTC:20260302T190000
DTEND;TZID=UTC:20260302T200000
DTSTAMP:20260419T162441
CREATED:20260203T164347Z
LAST-MODIFIED:20260203T164736Z
UID:10000340-1772478000-1772481600@spanishto.com
SUMMARY:Spanish Beginners 1 In-Person Toronto Course Mon. Mar. 2nd @ 7:00PM $205+HST 5 lessons & Spanish for Beginners Book
DESCRIPTION:  								\n				\n					\n		\n					\n		\n				\n						\n					\n			\n						\n				\n									\n					\n						\n									BUY NOW 5 IN PERSON BEG 1 SPANISH CLASSES @ Bay & King Starts Mon. Mar. 2nd @ 7:00PM | $205.00 + HST\n					\n					\n				\n								\n				\n					\n		\n					\n		\n				\n						\n					\n			\n						\n				\n									Looking to learn Spanish for travel\, love and family\, or work? Join our In Person Beginners 1 Spanish Group Class at our Toronto Financial District location 100 King St. West with Prof. InesThis course runs Mon. Mar. 2nd to Mar. 30th from 7:00 PM to 8:00 PM      5 one-hour lessons with interactive practice and digital materials and Spanish for Beginners A1 Book (used in Beginners 1\, 2\, & 3 courses)You’ll learn how to introduce yourself\, ask questions\, order in a restaurant\, beginning grammar and vocabulary and lots of interactive speaking practice.The cost is $205.00 + HSTYou have the option to attend in-person\, or live online via Zoom if you can’t make it in-personFor more info contact usDon’t miss this opportunity to begin speaking Spanish! Secure your spot! Pay & join the course! Click on our secure Shopify BUY link above.  
URL:https://spanishto.com/course/spanish-beginners-1-in-person-toronto-course-mon-mar-2nd-700pm-205hst-5-lessons-spanish-for-beginners-book/
LOCATION:Toronto Financial District\, 100 King Street West\, #5700\, Toronto\, Ontario\, M5X 1C7\, Canada
CATEGORIES:Adult - Beginner
ATTACH;FMTTYPE=image/jpeg:https://spanishto.com/wp-content/uploads/2024/12/45450895-F3D4-481B-9342-967643FCE746-scaled.jpg
END:VEVENT
BEGIN:VEVENT
DTSTART;TZID=UTC:20260302T173000
DTEND;TZID=UTC:20260302T183000
DTSTAMP:20260419T162441
CREATED:20260105T014836Z
LAST-MODIFIED:20260208T180833Z
UID:10000329-1772472600-1772476200@spanishto.com
SUMMARY:Spanish Beginners 3 In-Person Toronto Course Mon. Mar. 2nd @ 5:30PM $205+HST 5 lessons
DESCRIPTION:  								\n				\n					\n		\n					\n		\n				\n						\n					\n			\n						\n				\n									\n					\n						\n									BUY NOW 5 IN PERSON BEG 1 SPANISH CLASSES @ Bay & King Starts Mon. Mar. 2nd @ 7:00PM | $205.00 + HST\n					\n					\n				\n								\n				\n					\n		\n					\n		\n				\n						\n					\n			\n						\n				\n									Looking to learn Spanish for travel\, love and family\, or work? Join our In Person Beginners 1 Spanish Group Class at our Toronto Financial District location 100 King St. West with Prof. InesThis course runs Mon. Mar. 2nd to Mar. 30th from 7:00 PM to 8:00 PM      5 one-hour lessons with interactive practice and digital materials and Spanish for Beginners A1 Book (used in Beginners 1\, 2\, & 3 courses)You’ll learn how to introduce yourself\, ask questions\, order in a restaurant\, beginning grammar and vocabulary and lots of interactive speaking practice.The cost is $205.00 + HSTYou have the option to attend in-person\, or live online via Zoom if you can’t make it in-personFor more info contact usDon’t miss this opportunity to begin speaking Spanish! Secure your spot! Pay & join the course! Click on our secure Shopify BUY link above.  
URL:https://spanishto.com/course/spanish-beginners-3-in-person-toronto-course-mon-mar-2nd-530pm-205hst-5-lessons/
LOCATION:Toronto Financial District\, 100 King Street West\, #5700\, Toronto\, Ontario\, M5X 1C7\, Canada
CATEGORIES:Adult - Beginner
ATTACH;FMTTYPE=image/jpeg:https://spanishto.com/wp-content/uploads/2025/11/IMG_8986-scaled.jpeg
END:VEVENT
BEGIN:VEVENT
DTSTART;TZID=UTC:20260224T190000
DTEND;TZID=UTC:20260224T200000
DTSTAMP:20260419T162441
CREATED:20260203T163227Z
LAST-MODIFIED:20260221T151954Z
UID:10000339-1771959600-1771963200@spanishto.com
SUMMARY:Spanish Advanced 1 B2  In-Person Bay & King Toronto Course Join Tues. Feb. 24th @ 7:00PM $165+HST 4 lessons
DESCRIPTION:  								\n				\n					\n		\n					\n		\n				\n						\n					\n			\n						\n				\n									\n					\n						\n									BUY NOW 5 IN PERSON BEG 1 SPANISH CLASSES @ Bay & King Starts Mon. Mar. 2nd @ 7:00PM | $205.00 + HST\n					\n					\n				\n								\n				\n					\n		\n					\n		\n				\n						\n					\n			\n						\n				\n									Looking to learn Spanish for travel\, love and family\, or work? Join our In Person Beginners 1 Spanish Group Class at our Toronto Financial District location 100 King St. West with Prof. InesThis course runs Mon. Mar. 2nd to Mar. 30th from 7:00 PM to 8:00 PM      5 one-hour lessons with interactive practice and digital materials and Spanish for Beginners A1 Book (used in Beginners 1\, 2\, & 3 courses)You’ll learn how to introduce yourself\, ask questions\, order in a restaurant\, beginning grammar and vocabulary and lots of interactive speaking practice.The cost is $205.00 + HSTYou have the option to attend in-person\, or live online via Zoom if you can’t make it in-personFor more info contact usDon’t miss this opportunity to begin speaking Spanish! Secure your spot! Pay & join the course! Click on our secure Shopify BUY link above.  
URL:https://spanishto.com/course/spanish-advanced-1-b2-in-person-bay-king-toronto-course-tues-feb-17th-700pm-205hst-5-lessons/
LOCATION:Toronto Financial District\, 100 King Street West\, #5700\, Toronto\, Ontario\, M5X 1C7\, Canada
CATEGORIES:Adult-Intermediate
ATTACH;FMTTYPE=image/jpeg:https://spanishto.com/wp-content/uploads/2024/10/IMG_7442.jpg
END:VEVENT
BEGIN:VEVENT
DTSTART;TZID=UTC:20260223T190000
DTEND;TZID=UTC:20260223T200000
DTSTAMP:20260419T162441
CREATED:20260210T194906Z
LAST-MODIFIED:20260210T195459Z
UID:10000344-1771873200-1771876800@spanishto.com
SUMMARY:Spanish Beg 2 In-Person Toronto Course Starts Mon. Feb. 23rd @ 7:00PM $205+HST 5 Lessons
DESCRIPTION:  								\n				\n					\n		\n					\n		\n				\n						\n					\n			\n						\n				\n									\n					\n						\n									BUY NOW 5 IN PERSON BEG 1 SPANISH CLASSES @ Bay & King Starts Mon. Mar. 2nd @ 7:00PM | $205.00 + HST\n					\n					\n				\n								\n				\n					\n		\n					\n		\n				\n						\n					\n			\n						\n				\n									Looking to learn Spanish for travel\, love and family\, or work? Join our In Person Beginners 1 Spanish Group Class at our Toronto Financial District location 100 King St. West with Prof. InesThis course runs Mon. Mar. 2nd to Mar. 30th from 7:00 PM to 8:00 PM      5 one-hour lessons with interactive practice and digital materials and Spanish for Beginners A1 Book (used in Beginners 1\, 2\, & 3 courses)You’ll learn how to introduce yourself\, ask questions\, order in a restaurant\, beginning grammar and vocabulary and lots of interactive speaking practice.The cost is $205.00 + HSTYou have the option to attend in-person\, or live online via Zoom if you can’t make it in-personFor more info contact usDon’t miss this opportunity to begin speaking Spanish! Secure your spot! Pay & join the course! Click on our secure Shopify BUY link above.  
URL:https://spanishto.com/course/spanish-beg-2-in-person-toronto-course-starts-mon-feb-23rd-700pm-205hst-5-lessons/
LOCATION:Toronto Financial District\, 100 King Street West\, #5700\, Toronto\, Ontario\, M5X 1C7\, Canada
CATEGORIES:Adult - Beginner
ATTACH;FMTTYPE=image/jpeg:https://spanishto.com/wp-content/uploads/2025/11/IMG_8986-scaled.jpeg
END:VEVENT
BEGIN:VEVENT
DTSTART;TZID=UTC:20260219T173000
DTEND;TZID=UTC:20260219T183000
DTSTAMP:20260419T162441
CREATED:20260124T020242Z
LAST-MODIFIED:20260213T182103Z
UID:10000338-1771522200-1771525800@spanishto.com
SUMMARY:Spanish Beginners 1 In-Person Toronto Course Join Thurs. Feb. 19th @ 5:30PM $165+HST 4 lessons & Spanish for Beginners Book
DESCRIPTION:  								\n				\n					\n		\n					\n		\n				\n						\n					\n			\n						\n				\n									\n					\n						\n									BUY NOW 5 IN PERSON BEG 1 SPANISH CLASSES @ Bay & King Starts Mon. Mar. 2nd @ 7:00PM | $205.00 + HST\n					\n					\n				\n								\n				\n					\n		\n					\n		\n				\n						\n					\n			\n						\n				\n									Looking to learn Spanish for travel\, love and family\, or work? Join our In Person Beginners 1 Spanish Group Class at our Toronto Financial District location 100 King St. West with Prof. InesThis course runs Mon. Mar. 2nd to Mar. 30th from 7:00 PM to 8:00 PM      5 one-hour lessons with interactive practice and digital materials and Spanish for Beginners A1 Book (used in Beginners 1\, 2\, & 3 courses)You’ll learn how to introduce yourself\, ask questions\, order in a restaurant\, beginning grammar and vocabulary and lots of interactive speaking practice.The cost is $205.00 + HSTYou have the option to attend in-person\, or live online via Zoom if you can’t make it in-personFor more info contact usDon’t miss this opportunity to begin speaking Spanish! Secure your spot! Pay & join the course! Click on our secure Shopify BUY link above.  
URL:https://spanishto.com/course/spanish-beginners-1-in-person-toronto-course-thurs-feb-12th-530pm-205hst-5-lessons-spanish-for-beginners-book/
LOCATION:Downtown: Yonge & Bloor\, 2 Bloor Street East\, Suit 3500\, Toronto\, Ontario\, M4W 1A8\, Canada
CATEGORIES:Adult - Beginner
ATTACH;FMTTYPE=image/jpeg:https://spanishto.com/wp-content/uploads/2024/10/IMG_7442.jpg
END:VEVENT
BEGIN:VEVENT
DTSTART;TZID=UTC:20260218T190000
DTEND;TZID=UTC:20260218T200000
DTSTAMP:20260419T162441
CREATED:20260214T213111Z
LAST-MODIFIED:20260214T214003Z
UID:10000346-1771441200-1771444800@spanishto.com
SUMMARY:Spanish Beg 2 In-Person Toronto Course Starts Wed. Feb. 18th @ 7:00PM $205+HST 6 Lessons
DESCRIPTION:  								\n				\n					\n		\n					\n		\n				\n						\n					\n			\n						\n				\n									\n					\n						\n									BUY NOW 5 IN PERSON BEG 1 SPANISH CLASSES @ Bay & King Starts Mon. Mar. 2nd @ 7:00PM | $205.00 + HST\n					\n					\n				\n								\n				\n					\n		\n					\n		\n				\n						\n					\n			\n						\n				\n									Looking to learn Spanish for travel\, love and family\, or work? Join our In Person Beginners 1 Spanish Group Class at our Toronto Financial District location 100 King St. West with Prof. InesThis course runs Mon. Mar. 2nd to Mar. 30th from 7:00 PM to 8:00 PM      5 one-hour lessons with interactive practice and digital materials and Spanish for Beginners A1 Book (used in Beginners 1\, 2\, & 3 courses)You’ll learn how to introduce yourself\, ask questions\, order in a restaurant\, beginning grammar and vocabulary and lots of interactive speaking practice.The cost is $205.00 + HSTYou have the option to attend in-person\, or live online via Zoom if you can’t make it in-personFor more info contact usDon’t miss this opportunity to begin speaking Spanish! Secure your spot! Pay & join the course! Click on our secure Shopify BUY link above.  
URL:https://spanishto.com/course/spanish-beg-2-in-person-toronto-course-starts-wed-feb-18th-700pm-205hst-6-lessons/
LOCATION:Toronto Financial District\, 100 King Street West\, #5700\, Toronto\, Ontario\, M5X 1C7\, Canada
CATEGORIES:Adult - Beginner
ATTACH;FMTTYPE=image/jpeg:https://spanishto.com/wp-content/uploads/2024/10/IMG_6316.jpg
END:VEVENT
BEGIN:VEVENT
DTSTART;TZID=UTC:20260218T173000
DTEND;TZID=UTC:20260218T183000
DTSTAMP:20260419T162441
CREATED:20260213T173806Z
LAST-MODIFIED:20260213T181700Z
UID:10000345-1771435800-1771439400@spanishto.com
SUMMARY:Spanish Intermediate 2 In-Person Bay & King Toronto Course Starts Wed. Feb. 18th @ 5:30PM $205+HST 6 lessons
DESCRIPTION:  								\n				\n					\n		\n					\n		\n				\n						\n					\n			\n						\n				\n									\n					\n						\n									BUY NOW 5 IN PERSON BEG 1 SPANISH CLASSES @ Bay & King Starts Mon. Mar. 2nd @ 7:00PM | $205.00 + HST\n					\n					\n				\n								\n				\n					\n		\n					\n		\n				\n						\n					\n			\n						\n				\n									Looking to learn Spanish for travel\, love and family\, or work? Join our In Person Beginners 1 Spanish Group Class at our Toronto Financial District location 100 King St. West with Prof. InesThis course runs Mon. Mar. 2nd to Mar. 30th from 7:00 PM to 8:00 PM      5 one-hour lessons with interactive practice and digital materials and Spanish for Beginners A1 Book (used in Beginners 1\, 2\, & 3 courses)You’ll learn how to introduce yourself\, ask questions\, order in a restaurant\, beginning grammar and vocabulary and lots of interactive speaking practice.The cost is $205.00 + HSTYou have the option to attend in-person\, or live online via Zoom if you can’t make it in-personFor more info contact usDon’t miss this opportunity to begin speaking Spanish! Secure your spot! Pay & join the course! Click on our secure Shopify BUY link above.  
URL:https://spanishto.com/course/spanish-intermediate-2-in-person-bay-king-toronto-course-starts-wed-feb-18th-530pm-205hst-5-lessons/
LOCATION:Toronto Financial District\, 100 King Street West\, #5700\, Toronto\, Ontario\, M5X 1C7\, Canada
CATEGORIES:Adult-Intermediate
ATTACH;FMTTYPE=image/jpeg:https://spanishto.com/wp-content/uploads/2024/10/IMG_6316.jpg
END:VEVENT
BEGIN:VEVENT
DTSTART;TZID=UTC:20260211T174500
DTEND;TZID=UTC:20260211T184500
DTSTAMP:20260419T162441
CREATED:20251008T150847Z
LAST-MODIFIED:20260121T163145Z
UID:10000299-1770831900-1770835500@spanishto.com
SUMMARY:Spanish Beginners 2 In-Person Toronto Course Starts Wed. Feb. 11th @ 5:45PM $205+HST 5 lessons
DESCRIPTION:  								\n				\n					\n		\n					\n		\n				\n						\n					\n			\n						\n				\n									\n					\n						\n									BUY NOW 5 IN PERSON BEG 1 SPANISH CLASSES @ Bay & King Starts Mon. Mar. 2nd @ 7:00PM | $205.00 + HST\n					\n					\n				\n								\n				\n					\n		\n					\n		\n				\n						\n					\n			\n						\n				\n									Looking to learn Spanish for travel\, love and family\, or work? Join our In Person Beginners 1 Spanish Group Class at our Toronto Financial District location 100 King St. West with Prof. InesThis course runs Mon. Mar. 2nd to Mar. 30th from 7:00 PM to 8:00 PM      5 one-hour lessons with interactive practice and digital materials and Spanish for Beginners A1 Book (used in Beginners 1\, 2\, & 3 courses)You’ll learn how to introduce yourself\, ask questions\, order in a restaurant\, beginning grammar and vocabulary and lots of interactive speaking practice.The cost is $205.00 + HSTYou have the option to attend in-person\, or live online via Zoom if you can’t make it in-personFor more info contact usDon’t miss this opportunity to begin speaking Spanish! Secure your spot! Pay & join the course! Click on our secure Shopify BUY link above.  
URL:https://spanishto.com/course/spanish-beginners-2-in-person-toronto-course-starts-wed-feb-11th-545pm-205hst-5-lessons/
LOCATION:West End\, 95 Lavinia Street\, 2nd Floor\, West End\, Ontario\, M6S 3H9\, Canada
CATEGORIES:Adult - Beginner
ATTACH;FMTTYPE=image/jpeg:https://spanishto.com/wp-content/uploads/2024/10/IMG_5579.jpg
END:VEVENT
BEGIN:VEVENT
DTSTART;TZID=UTC:20260210T190000
DTEND;TZID=UTC:20260210T200000
DTSTAMP:20260419T162441
CREATED:20260121T164240Z
LAST-MODIFIED:20260121T165104Z
UID:10000335-1770750000-1770753600@spanishto.com
SUMMARY:Spanish Beg 2 In-Person Toronto Course Starts Tues. Feb. 10th @ 7:00PM $205+HST 5 Lessons
DESCRIPTION:  								\n				\n					\n		\n					\n		\n				\n						\n					\n			\n						\n				\n									\n					\n						\n									BUY NOW 5 IN PERSON BEG 1 SPANISH CLASSES @ Bay & King Starts Mon. Mar. 2nd @ 7:00PM | $205.00 + HST\n					\n					\n				\n								\n				\n					\n		\n					\n		\n				\n						\n					\n			\n						\n				\n									Looking to learn Spanish for travel\, love and family\, or work? Join our In Person Beginners 1 Spanish Group Class at our Toronto Financial District location 100 King St. West with Prof. InesThis course runs Mon. Mar. 2nd to Mar. 30th from 7:00 PM to 8:00 PM      5 one-hour lessons with interactive practice and digital materials and Spanish for Beginners A1 Book (used in Beginners 1\, 2\, & 3 courses)You’ll learn how to introduce yourself\, ask questions\, order in a restaurant\, beginning grammar and vocabulary and lots of interactive speaking practice.The cost is $205.00 + HSTYou have the option to attend in-person\, or live online via Zoom if you can’t make it in-personFor more info contact usDon’t miss this opportunity to begin speaking Spanish! Secure your spot! Pay & join the course! Click on our secure Shopify BUY link above.  
URL:https://spanishto.com/course/spanish-beg-2-in-person-toronto-course-starts-tues-feb-10th-700pm-205hst-5-lessons/
LOCATION:Toronto Financial District\, 100 King Street West\, #5700\, Toronto\, Ontario\, M5X 1C7\, Canada
CATEGORIES:Adult - Beginner
ATTACH;FMTTYPE=image/jpeg:https://spanishto.com/wp-content/uploads/2024/10/IMG_6316.jpg
END:VEVENT
BEGIN:VEVENT
DTSTART;TZID=UTC:20251118T173000
DTEND;TZID=UTC:20251118T183000
DTSTAMP:20260419T162441
CREATED:20251103T193756Z
LAST-MODIFIED:20251111T194150Z
UID:10000308-1763487000-1763490600@spanishto.com
SUMMARY:Spanish Beg 2 In-Person Toronto Course Starts Tues. Nov. 18th @ 5:30PM $205+HST 5 Lessons
DESCRIPTION:  								\n				\n					\n		\n					\n		\n				\n						\n					\n			\n						\n				\n									\n					\n						\n									BUY NOW 5 IN PERSON BEG 1 SPANISH CLASSES @ Bay & King Starts Mon. Mar. 2nd @ 7:00PM | $205.00 + HST\n					\n					\n				\n								\n				\n					\n		\n					\n		\n				\n						\n					\n			\n						\n				\n									Looking to learn Spanish for travel\, love and family\, or work? Join our In Person Beginners 1 Spanish Group Class at our Toronto Financial District location 100 King St. West with Prof. InesThis course runs Mon. Mar. 2nd to Mar. 30th from 7:00 PM to 8:00 PM      5 one-hour lessons with interactive practice and digital materials and Spanish for Beginners A1 Book (used in Beginners 1\, 2\, & 3 courses)You’ll learn how to introduce yourself\, ask questions\, order in a restaurant\, beginning grammar and vocabulary and lots of interactive speaking practice.The cost is $205.00 + HSTYou have the option to attend in-person\, or live online via Zoom if you can’t make it in-personFor more info contact usDon’t miss this opportunity to begin speaking Spanish! Secure your spot! Pay & join the course! Click on our secure Shopify BUY link above.  
URL:https://spanishto.com/course/spanish-beg-2-in-person-toronto-course-starts-tues-nov-18th-530pm-205hst-5-lessons/
LOCATION:Toronto Financial District\, 100 King Street West\, #5700\, Toronto\, Ontario\, M5X 1C7\, Canada
CATEGORIES:Adult - Beginner
ATTACH;FMTTYPE=image/jpeg:https://spanishto.com/wp-content/uploads/2024/10/IMG_6316.jpg
END:VEVENT
BEGIN:VEVENT
DTSTART;TZID=UTC:20251117T173000
DTEND;TZID=UTC:20251117T183000
DTSTAMP:20260419T162441
CREATED:20251103T174201Z
LAST-MODIFIED:20251103T193350Z
UID:10000307-1763400600-1763404200@spanishto.com
SUMMARY:Spanish Advanced 1 In-Person Bay & King Toronto Course Starts Mon. Nov. 17th @ 5:30PM $205+HST 5 lessons
DESCRIPTION:  								\n				\n					\n		\n					\n		\n				\n						\n					\n			\n						\n				\n									\n					\n						\n									BUY NOW 5 IN PERSON BEG 1 SPANISH CLASSES @ Bay & King Starts Mon. Mar. 2nd @ 7:00PM | $205.00 + HST\n					\n					\n				\n								\n				\n					\n		\n					\n		\n				\n						\n					\n			\n						\n				\n									Looking to learn Spanish for travel\, love and family\, or work? Join our In Person Beginners 1 Spanish Group Class at our Toronto Financial District location 100 King St. West with Prof. InesThis course runs Mon. Mar. 2nd to Mar. 30th from 7:00 PM to 8:00 PM      5 one-hour lessons with interactive practice and digital materials and Spanish for Beginners A1 Book (used in Beginners 1\, 2\, & 3 courses)You’ll learn how to introduce yourself\, ask questions\, order in a restaurant\, beginning grammar and vocabulary and lots of interactive speaking practice.The cost is $205.00 + HSTYou have the option to attend in-person\, or live online via Zoom if you can’t make it in-personFor more info contact usDon’t miss this opportunity to begin speaking Spanish! Secure your spot! Pay & join the course! Click on our secure Shopify BUY link above.  
URL:https://spanishto.com/course/spanish-advanced-1-in-person-bay-king-toronto-course-starts-mon-nov-17th-530pm-205hst-5-lessons/
LOCATION:Toronto Financial District\, 100 King Street West\, #5700\, Toronto\, Ontario\, M5X 1C7\, Canada
CATEGORIES:Adult- Advanced
ATTACH;FMTTYPE=image/heic:https://spanishto.com/wp-content/uploads/2025/09/IMG_6345-scaled.jpg
END:VEVENT
BEGIN:VEVENT
DTSTART;TZID=UTC:20250924T173000
DTEND;TZID=UTC:20250924T183000
DTSTAMP:20260419T162441
CREATED:20250910T152305Z
LAST-MODIFIED:20250918T023022Z
UID:10000290-1758735000-1758738600@spanishto.com
SUMMARY:Spanish Beg 2 In-Person Toronto Course Starts Wed. Sept. 24th @ 5:30PM $165+HST 4 Lessons
DESCRIPTION:  								\n				\n					\n		\n					\n		\n				\n						\n					\n			\n						\n				\n									\n					\n						\n									BUY NOW 5 IN PERSON BEG 1 SPANISH CLASSES @ Bay & King Starts Mon. Mar. 2nd @ 7:00PM | $205.00 + HST\n					\n					\n				\n								\n				\n					\n		\n					\n		\n				\n						\n					\n			\n						\n				\n									Looking to learn Spanish for travel\, love and family\, or work? Join our In Person Beginners 1 Spanish Group Class at our Toronto Financial District location 100 King St. West with Prof. InesThis course runs Mon. Mar. 2nd to Mar. 30th from 7:00 PM to 8:00 PM      5 one-hour lessons with interactive practice and digital materials and Spanish for Beginners A1 Book (used in Beginners 1\, 2\, & 3 courses)You’ll learn how to introduce yourself\, ask questions\, order in a restaurant\, beginning grammar and vocabulary and lots of interactive speaking practice.The cost is $205.00 + HSTYou have the option to attend in-person\, or live online via Zoom if you can’t make it in-personFor more info contact usDon’t miss this opportunity to begin speaking Spanish! Secure your spot! Pay & join the course! Click on our secure Shopify BUY link above.  
URL:https://spanishto.com/course/spanish-beg-2-in-person-toronto-course-starts-wed-sept-17th-530pm-205hst-5-lessons/
LOCATION:Toronto Financial District\, 100 King Street West\, #5700\, Toronto\, Ontario\, M5X 1C7\, Canada
CATEGORIES:Adult - Beginner
ATTACH;FMTTYPE=image/jpeg:https://spanishto.com/wp-content/uploads/2024/10/IMG_6316.jpg
END:VEVENT
BEGIN:VEVENT
DTSTART;TZID=UTC:20250922T190000
DTEND;TZID=UTC:20250922T200000
DTSTAMP:20260419T162441
CREATED:20250828T183622Z
LAST-MODIFIED:20250828T184241Z
UID:10000284-1758567600-1758571200@spanishto.com
SUMMARY:Spanish Beginners 1 In-Person Toronto Course Mon. Sept. 22nd @ 7:00PM $205+HST 5 lessons & Spanish for Beginners Book
DESCRIPTION:  								\n				\n					\n		\n					\n		\n				\n						\n					\n			\n						\n				\n									\n					\n						\n									BUY NOW 5 IN PERSON BEG 1 SPANISH CLASSES @ Bay & King Starts Mon. Mar. 2nd @ 7:00PM | $205.00 + HST\n					\n					\n				\n								\n				\n					\n		\n					\n		\n				\n						\n					\n			\n						\n				\n									Looking to learn Spanish for travel\, love and family\, or work? Join our In Person Beginners 1 Spanish Group Class at our Toronto Financial District location 100 King St. West with Prof. InesThis course runs Mon. Mar. 2nd to Mar. 30th from 7:00 PM to 8:00 PM      5 one-hour lessons with interactive practice and digital materials and Spanish for Beginners A1 Book (used in Beginners 1\, 2\, & 3 courses)You’ll learn how to introduce yourself\, ask questions\, order in a restaurant\, beginning grammar and vocabulary and lots of interactive speaking practice.The cost is $205.00 + HSTYou have the option to attend in-person\, or live online via Zoom if you can’t make it in-personFor more info contact usDon’t miss this opportunity to begin speaking Spanish! Secure your spot! Pay & join the course! Click on our secure Shopify BUY link above.  
URL:https://spanishto.com/course/spanish-beginners-1-in-person-toronto-course-mon-sept-22nd-700pm-205hst-5-lessons-spanish-for-beginners-book/
LOCATION:Toronto Financial District\, 100 King Street West\, #5700\, Toronto\, Ontario\, M5X 1C7\, Canada
CATEGORIES:Adult - Beginner
ATTACH;FMTTYPE=image/jpeg:https://spanishto.com/wp-content/uploads/2024/10/IMG_7442.jpg
END:VEVENT
BEGIN:VEVENT
DTSTART;TZID=UTC:20250920T100000
DTEND;TZID=UTC:20250920T110000
DTSTAMP:20260419T162441
CREATED:20250530T164350Z
LAST-MODIFIED:20250918T022743Z
UID:10000253-1758362400-1758366000@spanishto.com
SUMMARY:Spanish Interactive for KIDS Saturday Sept. 20th\, 2025 Toronto Ages 9-12 yrs & Ages 6-8 yrs @ 10:00AM
DESCRIPTION:  								\n				\n					\n		\n					\n		\n				\n						\n					\n			\n						\n				\n									\n					\n						\n									BUY NOW 5 IN PERSON BEG 1 SPANISH CLASSES @ Bay & King Starts Mon. Mar. 2nd @ 7:00PM | $205.00 + HST\n					\n					\n				\n								\n				\n					\n		\n					\n		\n				\n						\n					\n			\n						\n				\n									Looking to learn Spanish for travel\, love and family\, or work? Join our In Person Beginners 1 Spanish Group Class at our Toronto Financial District location 100 King St. West with Prof. InesThis course runs Mon. Mar. 2nd to Mar. 30th from 7:00 PM to 8:00 PM      5 one-hour lessons with interactive practice and digital materials and Spanish for Beginners A1 Book (used in Beginners 1\, 2\, & 3 courses)You’ll learn how to introduce yourself\, ask questions\, order in a restaurant\, beginning grammar and vocabulary and lots of interactive speaking practice.The cost is $205.00 + HSTYou have the option to attend in-person\, or live online via Zoom if you can’t make it in-personFor more info contact usDon’t miss this opportunity to begin speaking Spanish! Secure your spot! Pay & join the course! Click on our secure Shopify BUY link above.  
URL:https://spanishto.com/course/spanish-interactive-for-kids-saturday-sept-13th-2025-toronto-ages-9-12-yrs-ages-6-8-yrs-1000am-ages-4-5-yrs-1100am/
LOCATION:West End\, 95 Lavinia Street\, 2nd Floor\, West End\, Ontario\, M6S 3H9\, Canada
CATEGORIES:Children- In Person
ATTACH;FMTTYPE=image/jpeg:https://spanishto.com/wp-content/uploads/2022/10/Childrens-Classes.jpg
END:VEVENT
END:VCALENDAR