BEGIN:VCALENDAR
VERSION:2.0
PRODID:-//Spanish TO - ECPv6.15.20//NONSGML v1.0//EN
CALSCALE:GREGORIAN
METHOD:PUBLISH
X-ORIGINAL-URL:https://spanishto.com
X-WR-CALDESC:Events for Spanish TO
REFRESH-INTERVAL;VALUE=DURATION:PT1H
X-Robots-Tag:noindex
X-PUBLISHED-TTL:PT1H
BEGIN:VTIMEZONE
TZID:UTC
BEGIN:STANDARD
TZOFFSETFROM:+0000
TZOFFSETTO:+0000
TZNAME:UTC
DTSTART:20240101T000000
END:STANDARD
END:VTIMEZONE
BEGIN:VEVENT
DTSTART;TZID=UTC:20260402T174500
DTEND;TZID=UTC:20260402T184500
DTSTAMP:20260421T052825
CREATED:20260121T163353Z
LAST-MODIFIED:20260402T142521Z
UID:10000334-1775151900-1775155500@spanishto.com
SUMMARY:Spanish Beginners 1 In-Person Toronto Course Starts Thurs. Mar. 26th @ 5:45PM $165+HST 4 lessons
DESCRIPTION:BUY NOW 4 IN PERSON BEG 1 SPANISH CLASSES @ Runnymede & Bloor Join Thurs. Apr. 2nd @ 5:45PM | $165.00 + HST\n \nLooking to learn Spanish for travel\, love and family\, or work? \n\nJoin our In Person Beginners 1 Spanish Group Class at our Toronto Westend location 95 Lavinia Ave with Prof. Ines\nThis course runs Thurs. Mar. 26th to Apr. 23rd from 5:45 PM to 6:45 PM\n\n4 one-hour lessons with interactive practice and digital materials\nYou’ll learn how to introduce yourself\, ask questions\, order in a restaurant\, beginning grammar and vocabulary and lots of interactive speaking practice.\nThe cost is $165.00 + HST for a 4 class course\nYou have the option to attend in-person\, or live online via Zoom if you can’t make it in-person\nFor more info contact us\n\nDon’t miss this opportunity to begin speaking Spanish! Secure your spot! \nPay & join the course! Click on our secure Shopify BUY link below
URL:https://spanishto.com/course/spanish-beginners-1-in-person-toronto-course-starts-thurs-mar-26th-545pm-205hst-5-lessons/
LOCATION:West End\, 95 Lavinia Street\, 2nd Floor\, West End\, Ontario\, M6S 3H9\, Canada
CATEGORIES:Adult - Beginner
ATTACH;FMTTYPE=image/jpeg:https://spanishto.com/wp-content/uploads/2024/10/IMG_5579.jpg
END:VEVENT
BEGIN:VEVENT
DTSTART;TZID=UTC:20260325T174500
DTEND;TZID=UTC:20260325T184500
DTSTAMP:20260421T052825
CREATED:20260306T144517Z
LAST-MODIFIED:20260317T165323Z
UID:10000353-1774460700-1774464300@spanishto.com
SUMMARY:Spanish Beginners 3 In-Person Toronto Course Wed. Mar. 25th @ 5:45PM $205+HST 5 lessons
DESCRIPTION:BUY NOW 5 IN PERSON BEG 3 SPANISH CLASSES @ Runnymede & Bloor Starts Wed. Mar. 25th @ 5:45PM | $205.00 + HST\n \nLooking to learn Spanish for travel\, love and family\, or work? \n\nJoin our In Person Beginners 3 Spanish Group Class at our Toronto Westend location 95 Lavinia Ave. with Prof. David\nThis course runs Wed. Mar. 25th to Apr. 22nd from 5:45 PM to 6:45 PM       \n 5 one-hour lessons with interactive practice and digital materials.\nBeginners 3 continues to expand on basic Spanish intros and questions\, as well as basic grammar.  You’ll learn the difference between SER and ESTAR (to be)\, how to use the verb IR (to go) and TENER (to have).  This course will also introduce and allow practice of the past tenses.  We will cover topics such as travel\, directions\, shopping and daily routines.\nThe cost is $205.00 + HST\nYou have the option to attend in-person\, or live online via Zoom if you can’t make it in-person\nFor more info contact us\n\nDon’t miss this opportunity to begin speaking Spanish! Secure your spot! Pay & join the course! Click on our secure Shopify BUY link above
URL:https://spanishto.com/course/spanish-beginners-3-in-person-toronto-course-wed-mar-18th-545pm-205hst-5-lessons/
LOCATION:West End\, 95 Lavinia Street\, 2nd Floor\, West End\, Ontario\, M6S 3H9\, Canada
CATEGORIES:Adult - Beginner
ATTACH;FMTTYPE=image/jpeg:https://spanishto.com/wp-content/uploads/2025/11/IMG_8986-scaled.jpeg
END:VEVENT
BEGIN:VEVENT
DTSTART;TZID=UTC:20260321T110000
DTEND;TZID=UTC:20260321T114000
DTSTAMP:20260421T052825
CREATED:20260111T010131Z
LAST-MODIFIED:20260315T234829Z
UID:10000331-1774090800-1774093200@spanishto.com
SUMMARY:Spanish Interactive for KIDS Saturday Mar. 21st\, 2026 Toronto Ages 4-5 yrs @ 11:00AM
DESCRIPTION:BUY NOW 5 IN PERSON Spanish Interactive CLASSES for Ages 4-5 years | Join Sat. Mar. 21st @ 11:00AM | $112.50 + HST\n \nHave your child learn\, develop\, and practice Spanish in a fun and interactive environment! \nSpring 2026 session available:   \nMar. 21st Apr. 25th\, 2026.        No class Apr. 4th due to holiday long weekend. \n Registration is continuous:  \nages 4 to 5 years  at 11:00AM to 11:40AM \n   \nThis course has been designed to develop speaking skills in Spanish. Some reading and writing will be incorporated\, according to age and Spanish level. Children will learn how to speak in Spanish:  how to introduce themselves\, talk about their likes and dislikes\, talk about family\, order in a restaurant\, ask and answer questions. \nIntermediate level students will develop the same skills while learning verb conjugation\, how to talk about the house\, clothes\, school and more. \nThe in-person class teacher-student ratio is one teacher for every eight students. \nLOCATION: Toronto West End\, 95 Lavinia Av
URL:https://spanishto.com/course/spanish-interactive-for-kids-saturday-mar-7th-2026-toronto-ages-4-5-yrs-1100am/
LOCATION:West End\, 95 Lavinia Street\, 2nd Floor\, West End\, Ontario\, M6S 3H9\, Canada
CATEGORIES:Children- In Person
ATTACH;FMTTYPE=image/jpeg:https://spanishto.com/wp-content/uploads/2022/10/Childrens-Classes.jpg
END:VEVENT
BEGIN:VEVENT
DTSTART;TZID=UTC:20260321T100000
DTEND;TZID=UTC:20260321T105000
DTSTAMP:20260421T052825
CREATED:20260302T144334Z
LAST-MODIFIED:20260302T145335Z
UID:10000350-1774087200-1774090200@spanishto.com
SUMMARY:Spanish Interactive for KIDS Saturday Mar. 21st\, 2026 Toronto Ages 6-11 yrs @ 10:00AM
DESCRIPTION:BUY NOW 5 IN PERSON Spanish Interactive CLASSES for Ages 6-11 years | Starts Sat. Mar. 21st @ 10:00AM | $135.00 + HST\n \nHave your child learn\, develop\, and practice Spanish in a fun and interactive environment! \nSpring 2026 session available:   \nMar. 21st- Apr. 25th\, 2026.        No class Apr. 4th due to holiday long weekend. \n Registration is continuous:  \nages 6 to 10 years  at 10:00AM to 10:50AM      \nThis course has been designed to develop speaking skills in Spanish. Some reading and writing will be incorporated\, according to age and Spanish level. Children will learn how to speak in Spanish:  how to introduce themselves\, talk about their likes and dislikes\, talk about family\, order in a restaurant\, ask and answer questions. \nIntermediate level students will develop the same skills while learning verb conjugation\, how to talk about the house\, clothes\, school and more. \nThe in-person class teacher-student ratio is one teacher for every eight students. \nLOCATION: Toronto West End\, 95 Lavinia Ave
URL:https://spanishto.com/course/spanish-interactive-for-kids-saturday-mar-21st-2026-toronto-ages-6-10-yrs-1000am/
LOCATION:West End\, 95 Lavinia Street\, 2nd Floor\, West End\, Ontario\, M6S 3H9\, Canada
CATEGORIES:Children- In Person
ATTACH;FMTTYPE=image/jpeg:https://spanishto.com/wp-content/uploads/2022/10/Childrens-Classes.jpg
END:VEVENT
BEGIN:VEVENT
DTSTART;TZID=UTC:20260211T174500
DTEND;TZID=UTC:20260211T184500
DTSTAMP:20260421T052825
CREATED:20251008T150847Z
LAST-MODIFIED:20260121T163145Z
UID:10000299-1770831900-1770835500@spanishto.com
SUMMARY:Spanish Beginners 2 In-Person Toronto Course Starts Wed. Feb. 11th @ 5:45PM $205+HST 5 lessons
DESCRIPTION:BUY NOW 5 IN PERSON BEG 2 SPANISH CLASSES @ Runnymede & Bloor Starts Wed. Feb. 11th @ 5:45PM | $205.00 + HST\n \nWant to continue learning Spanish for travel\, love and family\, or work? \n\nJoin our In Person Beginners 2 Spanish Group Class at our Toronto Westend location 95 Lavinia Ave.\nStarts on Wed. Feb. 11th. This course runs Wed. Feb. 11th to Mar. 11th from 5:45 PM to 6:45 PM   \n\n5 one-hour lessons with interactive practice and digital materials.\nyou’ll learn small talk\, review Beginners 1 materials\, ask and give directions\, go shopping in Spanish\, travel vocabulary\, basic grammar and lots of interactive speaking practice.  You continue to use your Spanish for Beginners A1 book. Don’t have the book? Available on Amazon here.\n\n\nThe cost is $205.00 + HST\nYou have the option to attend in-person\, or live online via Zoom if you can’t make it in-person\nFor more info contact us\n\nDon’t miss this opportunity to begin speaking Spanish! Secure your spot! \nPay & join the course! Click on our secure Shopify BUY link above
URL:https://spanishto.com/course/spanish-beginners-2-in-person-toronto-course-starts-wed-feb-11th-545pm-205hst-5-lessons/
LOCATION:West End\, 95 Lavinia Street\, 2nd Floor\, West End\, Ontario\, M6S 3H9\, Canada
CATEGORIES:Adult - Beginner
ATTACH;FMTTYPE=image/jpeg:https://spanishto.com/wp-content/uploads/2024/10/IMG_5579.jpg
END:VEVENT
BEGIN:VEVENT
DTSTART;TZID=UTC:20250920T100000
DTEND;TZID=UTC:20250920T110000
DTSTAMP:20260421T052825
CREATED:20250530T164350Z
LAST-MODIFIED:20250918T022743Z
UID:10000253-1758362400-1758366000@spanishto.com
SUMMARY:Spanish Interactive for KIDS Saturday Sept. 20th\, 2025 Toronto Ages 9-12 yrs & Ages 6-8 yrs @ 10:00AM
DESCRIPTION:Have your child learn\, develop\, and practice Spanish in a fun and interactive environment! \nThe Fall term has two sessions available:   Sept. 13th to Oct. 25th\, 2025    no class on Oct. 11th \nNov. 1st to Dec. 6th\, 2025    \n Registration is continuous (space permitting):  \nSpanish Interactive for Kids 3 groups: \nages 6 to 8 years  at 10:00AM to 10:50AM \nages 9 to 12 years  at 10:00AM to 10:50AM \nThis course has been designed to develop speaking skills in Spanish. Some reading and writing will be incorporated\, according to age and Spanish level. Children will learn how to speak in Spanish:  how to introduce themselves\, talk about their likes and dislikes\, talk about family\, order in a restaurant\, ask and answer questions. \nIntermediate level students will develop the same skills while learning verb conjugation\, how to talk about the house\, clothes\, school and more. \nThe in-person class teacher-student ratio is one teacher for every eight students. \nLOCATION: Toronto West End\, 95 Lavinia Ave. \n\nBUY NOW 6 IN PERSON Spanish Interactive CLASSES for Ages 6-8 years | starts Sat. Sept. 13th @ 10:00AM | $162.00 + HST\n\n\nBUY NOW 6 IN PERSON Spanish Interactive CLASSES for Ages 9-12 years | starts Sat. Sept. 13th @ 10:00AM | $162.00 + HST
URL:https://spanishto.com/course/spanish-interactive-for-kids-saturday-sept-13th-2025-toronto-ages-9-12-yrs-ages-6-8-yrs-1000am-ages-4-5-yrs-1100am/
LOCATION:West End\, 95 Lavinia Street\, 2nd Floor\, West End\, Ontario\, M6S 3H9\, Canada
CATEGORIES:Children- In Person
ATTACH;FMTTYPE=image/jpeg:https://spanishto.com/wp-content/uploads/2022/10/Childrens-Classes.jpg
END:VEVENT
END:VCALENDAR