BEGIN:VCALENDAR
VERSION:2.0
PRODID:-//Spanish TO - ECPv6.15.20//NONSGML v1.0//EN
CALSCALE:GREGORIAN
METHOD:PUBLISH
X-ORIGINAL-URL:https://spanishto.com
X-WR-CALDESC:Events for Spanish TO
REFRESH-INTERVAL;VALUE=DURATION:PT1H
X-Robots-Tag:noindex
X-PUBLISHED-TTL:PT1H
BEGIN:VTIMEZONE
TZID:UTC
BEGIN:STANDARD
TZOFFSETFROM:+0000
TZOFFSETTO:+0000
TZNAME:UTC
DTSTART:20250101T000000
END:STANDARD
END:VTIMEZONE
BEGIN:VEVENT
DTSTART;TZID=UTC:20260502T100000
DTEND;TZID=UTC:20260502T113000
DTSTAMP:20260421T034512
CREATED:20260317T160607Z
LAST-MODIFIED:20260317T161541Z
UID:10000357-1777716000-1777721400@spanishto.com
SUMMARY:Spanish Interactive for KIDS Saturday May 2nd\, 2026 Toronto Ages 4-5 yrs @ 11:00AM\, Ages 6-12 yrs @ 10:00AM
DESCRIPTION:BUY NOW 6 IN PERSON Spanish Interactive CLASSES for Ages 6-12 years | Starts Sat. May 2nd @ 10:00AM | $162.00 + HST\n\n\nBUY NOW 6 IN PERSON Spanish Interactive CLASSES for Ages 4-5 years | Starts Sat. May 2nd @ 11:00AM | $135.00 + HST\n \nHave your child learn\, develop\, and practice Spanish in a fun and interactive environment! \nSpring session available: 6 classes  \nMay 2nd- June 13th\, 2026.          No class on May 16th due to long weekend. \n Registration is continuous:  \nSpanish Interactive for Kids two groups: \nages 4 to 5 years  at 11:00AM to 11:40AM          6 classes of 40 minutes each \nages 6 to 12 years  at 10:00AM to 10:50AM        6 classes of 50 minutes each \nThis course has been designed to develop speaking skills in Spanish. Some reading and writing will be incorporated\, according to age and Spanish level. Children will learn how to speak in Spanish:  how to introduce themselves\, talk about their likes and dislikes\, talk about family\, order in a restaurant\, ask and answer questions. \nIntermediate level students will develop the same skills while learning verb conjugation\, how to talk about the house\, clothes\, school and more. \nThe in-person class teacher-student ratio is one teacher for every eight students. \nLOCATION: Toronto West End\, 95 Lavinia Ave.
URL:https://spanishto.com/course/spanish-interactive-for-kids-saturday-may-2nd-2026-toronto-ages-4-5-yrs-1100am-ages-6-12-yrs-1000am/
LOCATION:West End\, 95 Lavinia Street\, 2nd Floor\, West End\, Ontario\, M6S 3H9\, Canada
CATEGORIES:Children- In Person
ATTACH;FMTTYPE=image/jpeg:https://spanishto.com/wp-content/uploads/2022/10/Childrens-Classes.jpg
END:VEVENT
BEGIN:VEVENT
DTSTART;TZID=UTC:20260507T174500
DTEND;TZID=UTC:20260507T184500
DTSTAMP:20260421T034512
CREATED:20260406T141020Z
LAST-MODIFIED:20260415T155134Z
UID:10000364-1778175900-1778179500@spanishto.com
SUMMARY:Spanish Beginners 1 In-Person Toronto Course Starts Thurs. May 7th @ 5:45PM $205+HST 5 lessons
DESCRIPTION:BUY NOW 5 IN PERSON BEG 1 SPANISH CLASSES @ Runnymede & Bloor Starts Thurs. May 7th @ 5:45PM | $205.00 + HST\n \nLooking to learn Spanish for travel\, love and family\, or work? \n\nJoin our In Person Beginners 1 Spanish Group Class at our Toronto Westend location 95 Lavinia Ave with Prof. David\nThis course runs Thurs. May 7th to June 4th from 5:45 PM to 6:45 PM\n\n5 one-hour lessons with interactive practice and digital materials and Spanish for Beginners A1 Book\nYou’ll learn how to introduce yourself\, ask questions\, order in a restaurant\, beginning pronunciation (the vowels)\, grammar (forming sentences) and vocabulary (numbers\, food\, drinks)\, and lots of interactive speaking practice.\nThe cost is $205.00 + HST\nYou have the option to attend in-person\, or live online via Zoom if you can’t make it in-person\nFor more info contact us\n\nDon’t miss this opportunity to begin speaking Spanish! Secure your spot! \nPay & join the course! Click on our secure Shopify BUY link above
URL:https://spanishto.com/course/spanish-beginners-1-in-person-toronto-course-starts-thurs-may-7th-545pm-205hst-5-lessons/
LOCATION:West End\, 95 Lavinia Street\, 2nd Floor\, West End\, Ontario\, M6S 3H9\, Canada
CATEGORIES:Adult - Beginner
ATTACH;FMTTYPE=image/jpeg:https://spanishto.com/wp-content/uploads/2024/10/IMG_5579.jpg
END:VEVENT
END:VCALENDAR